Workbook

Sheet Custom Order Form
G4: (Customer Name) | N4: (PO Number) | O4: (Date)
G7: (Street Address) | N7: (City)
G10: (Phone) | J10: ='Division Details'!$B$24 -> (State) | O10: ='Division Details'!$B$25 -> (Zip)
G12: Your business is extremely important to us and we would like to have the opportunity to help you grow. We are pleased to offer the following pricing estimate for your consideration. ODL prides itself on delivering the highest quality product at the best prices so you meet the demands of your customers. Our level of customer service and on-time delivery is second to none. From product innovation to sales support we want to be your vendor of choice and we sincerely appreciate the opportunity to submit this pricing quotation for your review and approval.
X20: BLINK 1" | AA20: BLINK 7/8" CUSTOM
B22: Custom Quote Estimator - Please Attach to Purchase Order | V22: Online Configurator Coding
A23: Blink Type | B23: Operator Handing | C23: Glass Type | D23: CL/LE | E23: Operator Position | F23: Operator Type | G23: Blind Color | H23: Glass Width (Inches) | I23: Glass Height (Inches) | J23: Qty Needed | K23: Total Square Feet/Panel | L23: Net Price per square ft. | M23: Operator Adder | N23: Net Price per panel | O23: Total Price | P23: Dealer Per Panel | Q23: Dealer Total | R23: Retail Per Panel | S23: Retail Total | V23: Tilt Validation | W23: Classic Validation | X23: Annealed Validation | Y23: Tempered Validation | Z23: RLT-Top Validation | AA23: Tempered Validation | AB23: Annealed Validation | AC23: Blink Type | AD23: Tempered/ Annealed | AE23: Glass Type | AF23: Square Ft Group | AG23: Square Ft Category | AH23: Pricing Code | AI23: Sell sq. ft. | AJ23: Upcharge? | AK23: Color Upcharge | AL23: Sq Ft Cap | AP23: Blink Classic | AS23: 1" Custom | AW23: 7/8" Tilt | AZ23: 7/8" RLT-Top | BC23: 7/8" CUSTOM
K24: =IF(I24="","",ROUND(((H24*I24)/144),2)) | L24: =IF(K24="","",IF(K24>AL24,"",(AI24+AK24))) | M24: =IF(F24=$AF$89,'Price DATA'!$U$3,0) -> 0 | N24: =IF(OR(A24="",B24="",C24="",D24="",E24="",,F24="",G24="",H24="",I24="",J24=""),"",IF(OR(AF24="INVALID CODE",V24="Please Call",W24="Please Call",X24="Please Call",Y24="Please Call",Z24="Please Call",AA24="Please Call",AB24="Please Call"),"Please Call",IF(K24>AL24,"Please Call",IF(AND(E24=$AD$89,I24<30),"Incorrect Operator Position",IF(AND(H24>=36,I24>=36),"Please Call",IF(OR(V24="OKAY",W24="OKAY",X24="OKAY",Y24="OKAY",Z24="OKAY",AA24="OKAY",,AB24="OKAY"),((L24*K24)+M24),"")))))) | O24: =IF(OR(J24="",N24="",N24="Please Call",N24="Incorrect Operator Position"),"",J24*N24) | V24: =IF(A24="","",IF(OR(A24=$AD$100,A24=$AD$99,A24=$AD$102,A24=$AD$103),"N/A",IF(AND(H24>36,I24>36),"Please Call",IF(AND(AND(H24>=8,H24<9.99),OR(I24<12,I24>36)), "Please Call",IF(AND(AND(H24>=10,H24<13.99),OR(I24<12,I24>54)), "Please Call",IF(AND(AND(H24>=14,H24<19.99),OR(I24<12,I24>68)), "Please Call",IF(AND(AND(H24>=20,H24<20.99),OR(I24<12,I24>65)), "Please Call",IF(AND(AND(H24>=21,H24<21.99),OR(I24<12,I24>62)), "Please Call",IF(AND(AND(H24>=22,H24<22.99),OR(I24<12,I24>59)), "Please Call",IF(AND(AND(H24>=23,H24<23.99),OR(I24<12,I24>57)), "Please Call",IF(AND(AND(H24>=24,H24<24.99),OR(I24<12,I24>54)), "Please Call",IF(AND(AND(H24>=25,H24<25.99),OR(I24<12,I24>52)), "Please Call",IF(AND(AND(H24>=26,H24<26.99),OR(I24<12,I24>50)), "Please Call",IF(AND(AND(H24>=27,H24<27.99),OR(I24<12,I24>49)), "Please Call",IF(AND(AND(H24>=28,H24<28.99),OR(I24<12,I24>47)), "Please Call",IF(AND(AND(H24>=29,H24<29.99),OR(I24<12,I24>45)), "Please Call",IF(AND(AND(H24>=30,H24<30.99),OR(I24<12,I24>44)), "Please Call",IF(AND(AND(H24>=31,H24<31.99),OR(I24<12,I24>42)), "Please Call",IF(AND(AND(H24>=32,H24<32.99),OR(I24<12,I24>41)), "Please Call",IF(AND(AND(H24>=33,H24<33.99),OR(I24<12,I24>40)), "Please Call",IF(AND(AND(H24>=34,H24<34.99),OR(I24<12,I24>39)), "Please Call",IF(AND(AND(H24>=35,H24<35.99),OR(I24<12,I24>38)), "Please Call",IF(AND(AND(H24>=36,H24<36.99),OR(I24<12,I24>37)), "Please Call",IF(AND(AND(H24>=37,H24<37.99),OR(I24<12,I24>36)), "Please Call",IF(AND(AND(H24>=38,H24<38.99),OR(I24<12,I24>35)), "Please Call",IF(AND(AND(H24>=39,H24<39.99),OR(I24<12,I24>34)), "Please Call",IF(AND(AND(H24>=40,H24<40.99),OR(I24<12,I24>33)), "Please Call",IF(AND(AND(H24>=41,H24<41.99),OR(I24<12,I24>32)), "Please Call",IF(AND(AND(H24>=42,H24<45.99),OR(I24<12,I24>31)), "Please Call",IF(AND(AND(H24>=46,H24<47.99),OR(I24<12,I24>30)), "Please Call",IF(AND(AND(H24>=48,H24<48.99),OR(I24<12,I24>29)), "Please Call",IF(AND(AND(H24>=49,H24<50.99),OR(I24<12,I24>28)), "Please Call",IF(AND(AND(H24>=51,H24<54),OR(I24<12,I24>26)), "Please Call","OKAY"))))))))))))))))))))))))))))))))) | W24: =IF(A24="","",IF(OR(A24=$AD$100,A24=$AD$101,A24=$AD$102,A24=$AD$103),"N/A",IF(AND(H24>36,I24>36),"Please Call",IF(AND(AND(H24>=14,H24<29.99),OR(I24<42,I24>80)), "Please Call",IF(AND(AND(H24>=30,H24<30.99),OR(I24<42,I24>79)), "Please Call",IF(AND(AND(H24>=31,H24<31.99),OR(I24<42,I24>76)), "Please Call",IF(AND(AND(H24>=32,H24<32.99),OR(I24<42,I24>74)), "Please Call",IF(AND(AND(H24>=33,H24<33.99),OR(I24<42,I24>72)), "Please Call",IF(AND(AND(H24>=34,H24<34.99),OR(I24<42,I24>70)), "Please Call",IF(AND(AND(H24>=35,H24<36),OR(I24<42,I24>69)), "Please Call","OKAY")))))))))) | X24: =IF(A24="","",IF(OR(A24=$AD$101,A24=$AD$99,A24=$AD$102,C24=$AD$82,A24=$AD$103),"N/A",IF(AND(H24>36,I24>36),"Please Call",IF(AND(AND(H24>=8.625,H24<9.99),OR(I24<13,I24>36)), "Please Call",IF(AND(AND(H24>=10,H24<13.99),OR(I24<13,I24>48)), "Please Call",IF(AND(AND(H24>=14,H24<24.99),OR(I24<13,I24>80)), "Please Call",IF(AND(AND(H24>=25,H24<26.99),OR(I24<14,I24>80)), "Please Call",IF(AND(AND(H24>=27,H24<27.99),OR(I24<14,I24>79)), "Please Call",IF(AND(AND(H24>=28,H24<28.99),OR(I24<14,I24>77)), "Please Call",IF(AND(AND(H24>=29,H24<29.99),OR(I24<14,I24>75)), "Please Call",IF(AND(AND(H24>=30,H24<30.99),OR(I24<14,I24>72)), "Please Call",IF(AND(AND(H24>=31,H24<31.99),OR(I24<14,I24>70)), "Please Call",IF(AND(AND(H24>=32,H24<32.99),OR(I24<14,I24>68)), "Please Call",IF(AND(AND(H24>=33,H24<33.99),OR(I24<14,I24>66)), "Please Call",IF(AND(AND(H24>=34,H24<34.99),OR(I24<14,I24>64)), "Please Call",IF(AND(AND(H24>=35,H24<35.99),OR(I24<14,I24>62)), "Please Call",IF(AND(AND(H24>=36,H24<36.99),OR(I24<14,I24>60)), "Please Call",IF(AND(AND(H24>=37,H24<41.99),OR(I24<15,I24>36)), "Please Call",IF(AND(AND(H24>=42,H24<59.99),OR(I24<18,I24>36)), "Please Call",IF(AND(AND(H24>=60,H24<61.99),OR(I24<18,I24>35)), "Please Call",IF(AND(AND(H24>=62,H24<63.99),OR(I24<18,I24>34)), "Please Call",IF(AND(AND(H24>=64,H24<65.99),OR(I24<18,I24>33)), "Please Call",IF(AND(AND(H24>=66,H24<67.99),OR(I24<18,I24>32)), "Please Call",IF(AND(AND(H24>=68,H24<69.99),OR(I24<18,I24>31)), "Please Call",IF(AND(AND(H24>=70,H24<71.99),OR(I24<18,I24>30)), "Please Call",IF(AND(AND(H24>=72,H24<74.99),OR(I24<18,I24>29)), "Please Call",IF(AND(AND(H24>=75,H24<77.99),OR(I24<18,I24>28)), "Please Call",IF(AND(AND(H24>=78,H24<78.99),OR(I24<18,I24>27)), "Please Call",IF(AND(AND(H24>=79,H24<80),OR(I24<18,I24>26)), "Please Call","OKAY"))))))))))))))))))))))))))))) | Y24: =IF(A24="","",IF(OR(A24=$AD$99,A24=$AD$101,A24=$AD$102,C24=$AD$81,A24=$AD$103),"N/A",IF(AND(H24>36,I24>36),"Please Call",IF(AND(AND(H24>=8.625,H24<9.99),OR(I24<13,I24>36)), "Please Call",IF(AND(AND(H24>=10,H24<13.99),OR(I24<13,I24>48)), "Please Call",IF(AND(AND(H24>=14,H24<24.99),OR(I24<13,I24>80)), "Please Call",IF(AND(AND(H24>=25,H24<30.99),OR(I24<14,I24>80)), "Please Call",IF(AND(AND(H24>=31,H24<31.99),OR(I24<14,I24>78)), "Please Call",IF(AND(AND(H24>=32,H24<32.99),OR(I24<14,I24>76)), "Please Call",IF(AND(AND(H24>=33,H24<33.99),OR(I24<14,I24>75)), "Please Call",IF(AND(AND(H24>=34,H24<34.99),OR(I24<14,I24>73)), "Please Call",IF(AND(AND(H24>=35,H24<36.99),OR(I24<14,I24>69)), "Please Call",IF(AND(AND(H24>=37,H24<41.99),OR(I24<15,I24>36)), "Please Call",IF(AND(AND(H24>=42,H24<47.99),OR(I24<18,I24>36)), "Please Call",IF(AND(AND(H24>=48,H24<49.99),OR(I24<18,I24>35)), "Please Call",IF(AND(AND(H24>=50,H24<50.99),OR(I24<18,I24>34)), "Please Call",IF(AND(AND(H24>=51,H24<52.99),OR(I24<18,I24>33)), "Please Call",IF(AND(AND(H24>=53,H24<53.99),OR(I24<18,I24>32)), "Please Call",IF(AND(AND(H24>=54,H24<55.99),OR(I24<18,I24>31)), "Please Call",IF(AND(AND(H24>=56,H24<57.99),OR(I24<18,I24>30)), "Please Call",IF(AND(AND(H24>=58,H24<59.99),OR(I24<18,I24>29)), "Please Call",IF(AND(AND(H24>=60,H24<61.99),OR(I24<18,I24>28)), "Please Call",IF(AND(AND(H24>=62,H24<63.99),OR(I24<18,I24>27)), "Please Call",IF(AND(AND(H24>=64,H24<66.99),OR(I24<18,I24>26)), "Please Call",IF(AND(AND(H24>=67,H24<69.99),OR(I24<18,I24>25)), "Please Call",IF(AND(AND(H24>=70,H24<71.99),OR(I24<18,I24>24)), "Please Call",IF(AND(AND(H24>=72,H24<75.99),OR(I24<18,I24>23)), "Please Call",IF(AND(AND(H24>=76,H24<77.99),OR(I24<18,I24>22)), "Please Call",IF(AND(AND(H24>=78,H24<80),OR(I24<18,I24>21)), "Please Call","OKAY"))))))))))))))))))))))))))))) | Z24: =IF(A24="","",IF(OR(A24=$AD$100,A24=$AD$99,A24=$AD$101,A24=$AD$103),"N/A",IF(AND(H24>36,I24>36),"Please Call",IF(AND(AND(H24>=15,H24<15.99),OR(I24<12,I24>13.99)), "Please Call",IF(AND(AND(H24>=16,H24<16.99),OR(I24<12,I24>15.99)), "Please Call",IF(AND(AND(H24>=17,H24<17.99),OR(I24<12,I24>18.99)), "Please Call",IF(AND(AND(H24>=18,H24<18.99),OR(I24<12,I24>20.99)), "Please Call",IF(AND(AND(H24>=19,H24<19.99),OR(I24<12,I24>22.99)), "Please Call",IF(AND(AND(H24>=20,H24<20.99),OR(I24<12,I24>24.99)), "Please Call",IF(AND(AND(H24>=21,H24<21.99),OR(I24<12,I24>26.99)), "Please Call",IF(AND(AND(H24>=22,H24<22.99),OR(I24<12,I24>28.99)), "Please Call",IF(AND(AND(H24>=23,H24<23.99),OR(I24<12,I24>30.99)), "Please Call",IF(AND(AND(H24>=24,H24<24.99),OR(I24<12,I24>31.99)), "Please Call",IF(AND(AND(H24>=25,H24<25.99),OR(I24<12,I24>35.99)), "Please Call",IF(AND(AND(H24>=26,H24<26.99),OR(I24<12,I24>36.99)), "Please Call",IF(AND(AND(H24>=27,H24<28.99),OR(I24<12,I24>37.99)), "Please Call",IF(AND(AND(H24>=29,H24<29.99),OR(I24<12,I24>39.99)), "Please Call",IF(AND(AND(H24>=30,H24<32.99),OR(I24<12,I24>41)), "Please Call",IF(AND(AND(H24>=33,H24<33.99),OR(I24<12,I24>39.99)), "Please Call",IF(AND(AND(H24>=34,H24<34.99),OR(I24<12,I24>38.99)), "Please Call",IF(AND(AND(H24>=35,H24<35.99),OR(I24<12,I24>37.99)), "Please Call",IF(AND(AND(H24>=36,H24<36.99),OR(I24<12,I24>36.99)), "Please Call",IF(AND(AND(H24>=37,H24<37.99),OR(I24<12,I24>35.99)), "Please Call",IF(AND(AND(H24>=38,H24<38.99),OR(I24<12,I24>34.99)), "Please Call",IF(AND(AND(H24>=39,H24<39.99),OR(I24<12,I24>33.99)), "Please Call",IF(AND(AND(H24>=40,H24<40.99),OR(I24<12,I24>32.99)), "Please Call",IF(AND(AND(H24>=41,H24<41.99),OR(I24<12,I24>31.99)), "Please Call",IF(AND(AND(H24>=42,H24<43.99),OR(I24<12,I24>30.99)), "Please Call",IF(AND(AND(H24>=44,H24<44.99),OR(I24<12,I24>29.99)), "Please Call",IF(AND(AND(H24>=45,H24<46.99),OR(I24<12,I24>28.99)), "Please Call",IF(AND(AND(H24>=47,H24<48.99),OR(I24<12,I24>27.99)), "Please Call",IF(AND(AND(H24>=49,H24<49.99),OR(I24<12,I24>26.99)), "Please Call",IF(AND(AND(H24>=50,H24<51.99),OR(I24<12,I24>25.99)), "Please Call",IF(AND(AND(H24>=52,H24<54),OR(I24<12,I24>24.99)), "Please Call","OKAY")))))))))))))))))))))))))))))))))) | AA24: =IF(A24="","",IF(OR(A24=$AD$99,A24=$AD$100,A24=$AD$101,A24=$AD$102,C24=$AD$81),"N/A",IF(AND(AND(H24<8,H24>48),OR(I24<18,I24>80)), "Please Call",IF(AND(H24>36,I24>36),"Please Call",IF(K24>18.2,"Please Call","OKAY"))))) | AB24: =IF(A24="","",IF(OR(A24=$AD$99,A24=$AD$100,A24=$AD$101,A24=$AD$102,C24=$AD$82),"N/A",IF(AND(AND(H24<8,H24>48),OR(I24<18,I24>80)), "Please Call",IF(AND(H24>36,I24>36),"Please Call",IF(K24>=15,"Please Call","OKAY"))))) | AC24: =VLOOKUP(A24,$AD$99:$AE$103,2,0) -> #N/A | AD24: =VLOOKUP(C24,$AD$81:$AE$82,2,0) -> #N/A | AE24: =VLOOKUP(D24,$AD$58:$AE$70,2,0) -> #N/A | AF24: =IF(AND(K24>=1,K24<=2),$AD$105,IF(AND(K24>=2,K24<=3),$AD$106,IF(AND(K24>=3,K24<=5),$AD$107,IF(AND(K24>=5,K24<=7),$AD$108,IF(AND(K24>=7,K24<=9),$AD$109,IF(AND(K24>=9,K24<=11),$AD$110,IF(AND(K24>=11,K24<=13),$AD$111,IF(AND(K24>=13,K24<=15),$AD$112,IF(AND(K24>=15,K24<=17),$AD$113,IF(AND(K24>=17,K24<=19),$AD$114,"INVALID CODE")))))))))) -> INVALID CODE | AG24: =VLOOKUP(AF24,$AD$105:$AE$114,2,0) -> #N/A | AH24: =CONCATENATE(AC24,AD24,AE24,AG24) -> #N/A | AI24: =VLOOKUP(AH24,'Price DATA'!$A$8:$C$1156,3,0) -> #N/A | AJ24: =VLOOKUP(G24,$AD$92:$AE$97,2,0) -> #N/A | AK24: =IF(AJ24="Upcharge",(VLOOKUP(AD24,$AE$81:$AF$82,2,0)),0) -> #N/A | AL24: =IF(A24=$AD$100,VLOOKUP(C24,$AD$81:$AG$82,4,0),IF(A24=$AD$103,VLOOKUP(C24,$AD$81:$AH$82,5,0),VLOOKUP(A24,$AD$83:$AG$86,4,0))) -> #N/A | AP24: Width | AQ24: Height | AS24: Width | AT24: Height | AU24: Low Operator | AW24: Width | AX24: Height | AZ24: Width | BA24: Height | BC24: Width | BD24: Height
K25: =IF(I25="","",ROUND(((H25*I25)/144),2)) | L25: =IF(K25="","",IF(K25>AL25,"",(AI25+AK25))) | M25: =IF(F25=$AF$89,'Price DATA'!$U$3,0) -> 0 | N25: =IF(OR(A25="",B25="",C25="",D25="",E25="",,F25="",G25="",H25="",I25="",J25=""),"",IF(OR(AF25="INVALID CODE",V25="Please Call",W25="Please Call",X25="Please Call",Y25="Please Call",Z25="Please Call",AA25="Please Call",AB25="Please Call"),"Please Call",IF(K25>AL25,"Please Call",IF(AND(E25=$AD$89,I25<30),"Incorrect Operator Position",IF(AND(H25>=36,I25>=36),"Please Call",IF(OR(V25="OKAY",W25="OKAY",X25="OKAY",Y25="OKAY",Z25="OKAY",AA25="OKAY",,AB25="OKAY"),((L25*K25)+M25),"")))))) | O25: =IF(OR(J25="",N25="",N25="Please Call",N25="Incorrect Operator Position"),"",J25*N25) | V25: =IF(A25="","",IF(OR(A25=$AD$100,A25=$AD$99,A25=$AD$102,A25=$AD$103),"N/A",IF(AND(H25>36,I25>36),"Please Call",IF(AND(AND(H25>=8,H25<9.99),OR(I25<12,I25>36)), "Please Call",IF(AND(AND(H25>=10,H25<13.99),OR(I25<12,I25>54)), "Please Call",IF(AND(AND(H25>=14,H25<19.99),OR(I25<12,I25>68)), "Please Call",IF(AND(AND(H25>=20,H25<20.99),OR(I25<12,I25>65)), "Please Call",IF(AND(AND(H25>=21,H25<21.99),OR(I25<12,I25>62)), "Please Call",IF(AND(AND(H25>=22,H25<22.99),OR(I25<12,I25>59)), "Please Call",IF(AND(AND(H25>=23,H25<23.99),OR(I25<12,I25>57)), "Please Call",IF(AND(AND(H25>=24,H25<24.99),OR(I25<12,I25>54)), "Please Call",IF(AND(AND(H25>=25,H25<25.99),OR(I25<12,I25>52)), "Please Call",IF(AND(AND(H25>=26,H25<26.99),OR(I25<12,I25>50)), "Please Call",IF(AND(AND(H25>=27,H25<27.99),OR(I25<12,I25>49)), "Please Call",IF(AND(AND(H25>=28,H25<28.99),OR(I25<12,I25>47)), "Please Call",IF(AND(AND(H25>=29,H25<29.99),OR(I25<12,I25>45)), "Please Call",IF(AND(AND(H25>=30,H25<30.99),OR(I25<12,I25>44)), "Please Call",IF(AND(AND(H25>=31,H25<31.99),OR(I25<12,I25>42)), "Please Call",IF(AND(AND(H25>=32,H25<32.99),OR(I25<12,I25>41)), "Please Call",IF(AND(AND(H25>=33,H25<33.99),OR(I25<12,I25>40)), "Please Call",IF(AND(AND(H25>=34,H25<34.99),OR(I25<12,I25>39)), "Please Call",IF(AND(AND(H25>=35,H25<35.99),OR(I25<12,I25>38)), "Please Call",IF(AND(AND(H25>=36,H25<36.99),OR(I25<12,I25>37)), "Please Call",IF(AND(AND(H25>=37,H25<37.99),OR(I25<12,I25>36)), "Please Call",IF(AND(AND(H25>=38,H25<38.99),OR(I25<12,I25>35)), "Please Call",IF(AND(AND(H25>=39,H25<39.99),OR(I25<12,I25>34)), "Please Call",IF(AND(AND(H25>=40,H25<40.99),OR(I25<12,I25>33)), "Please Call",IF(AND(AND(H25>=41,H25<41.99),OR(I25<12,I25>32)), "Please Call",IF(AND(AND(H25>=42,H25<45.99),OR(I25<12,I25>31)), "Please Call",IF(AND(AND(H25>=46,H25<47.99),OR(I25<12,I25>30)), "Please Call",IF(AND(AND(H25>=48,H25<48.99),OR(I25<12,I25>29)), "Please Call",IF(AND(AND(H25>=49,H25<50.99),OR(I25<12,I25>28)), "Please Call",IF(AND(AND(H25>=51,H25<54),OR(I25<12,I25>26)), "Please Call","OKAY"))))))))))))))))))))))))))))))))) | W25: =IF(A25="","",IF(OR(A25=$AD$100,A25=$AD$101,A25=$AD$102,A25=$AD$103),"N/A",IF(AND(H25>36,I25>36),"Please Call",IF(AND(AND(H25>=14,H25<29.99),OR(I25<42,I25>80)), "Please Call",IF(AND(AND(H25>=30,H25<30.99),OR(I25<42,I25>79)), "Please Call",IF(AND(AND(H25>=31,H25<31.99),OR(I25<42,I25>76)), "Please Call",IF(AND(AND(H25>=32,H25<32.99),OR(I25<42,I25>74)), "Please Call",IF(AND(AND(H25>=33,H25<33.99),OR(I25<42,I25>72)), "Please Call",IF(AND(AND(H25>=34,H25<34.99),OR(I25<42,I25>70)), "Please Call",IF(AND(AND(H25>=35,H25<36),OR(I25<42,I25>69)), "Please Call","OKAY")))))))))) | X25: =IF(A25="","",IF(OR(A25=$AD$101,A25=$AD$99,A25=$AD$102,C25=$AD$82,A25=$AD$103),"N/A",IF(AND(H25>36,I25>36),"Please Call",IF(AND(AND(H25>=8.625,H25<9.99),OR(I25<13,I25>36)), "Please Call",IF(AND(AND(H25>=10,H25<13.99),OR(I25<13,I25>48)), "Please Call",IF(AND(AND(H25>=14,H25<24.99),OR(I25<13,I25>80)), "Please Call",IF(AND(AND(H25>=25,H25<26.99),OR(I25<14,I25>80)), "Please Call",IF(AND(AND(H25>=27,H25<27.99),OR(I25<14,I25>79)), "Please Call",IF(AND(AND(H25>=28,H25<28.99),OR(I25<14,I25>77)), "Please Call",IF(AND(AND(H25>=29,H25<29.99),OR(I25<14,I25>75)), "Please Call",IF(AND(AND(H25>=30,H25<30.99),OR(I25<14,I25>72)), "Please Call",IF(AND(AND(H25>=31,H25<31.99),OR(I25<14,I25>70)), "Please Call",IF(AND(AND(H25>=32,H25<32.99),OR(I25<14,I25>68)), "Please Call",IF(AND(AND(H25>=33,H25<33.99),OR(I25<14,I25>66)), "Please Call",IF(AND(AND(H25>=34,H25<34.99),OR(I25<14,I25>64)), "Please Call",IF(AND(AND(H25>=35,H25<35.99),OR(I25<14,I25>62)), "Please Call",IF(AND(AND(H25>=36,H25<36.99),OR(I25<14,I25>60)), "Please Call",IF(AND(AND(H25>=37,H25<41.99),OR(I25<15,I25>36)), "Please Call",IF(AND(AND(H25>=42,H25<59.99),OR(I25<18,I25>36)), "Please Call",IF(AND(AND(H25>=60,H25<61.99),OR(I25<18,I25>35)), "Please Call",IF(AND(AND(H25>=62,H25<63.99),OR(I25<18,I25>34)), "Please Call",IF(AND(AND(H25>=64,H25<65.99),OR(I25<18,I25>33)), "Please Call",IF(AND(AND(H25>=66,H25<67.99),OR(I25<18,I25>32)), "Please Call",IF(AND(AND(H25>=68,H25<69.99),OR(I25<18,I25>31)), "Please Call",IF(AND(AND(H25>=70,H25<71.99),OR(I25<18,I25>30)), "Please Call",IF(AND(AND(H25>=72,H25<74.99),OR(I25<18,I25>29)), "Please Call",IF(AND(AND(H25>=75,H25<77.99),OR(I25<18,I25>28)), "Please Call",IF(AND(AND(H25>=78,H25<78.99),OR(I25<18,I25>27)), "Please Call",IF(AND(AND(H25>=79,H25<80),OR(I25<18,I25>26)), "Please Call","OKAY"))))))))))))))))))))))))))))) | Y25: =IF(A25="","",IF(OR(A25=$AD$99,A25=$AD$101,A25=$AD$102,C25=$AD$81,A25=$AD$103),"N/A",IF(AND(H25>36,I25>36),"Please Call",IF(AND(AND(H25>=8.625,H25<9.99),OR(I25<13,I25>36)), "Please Call",IF(AND(AND(H25>=10,H25<13.99),OR(I25<13,I25>48)), "Please Call",IF(AND(AND(H25>=14,H25<24.99),OR(I25<13,I25>80)), "Please Call",IF(AND(AND(H25>=25,H25<30.99),OR(I25<14,I25>80)), "Please Call",IF(AND(AND(H25>=31,H25<31.99),OR(I25<14,I25>78)), "Please Call",IF(AND(AND(H25>=32,H25<32.99),OR(I25<14,I25>76)), "Please Call",IF(AND(AND(H25>=33,H25<33.99),OR(I25<14,I25>75)), "Please Call",IF(AND(AND(H25>=34,H25<34.99),OR(I25<14,I25>73)), "Please Call",IF(AND(AND(H25>=35,H25<36.99),OR(I25<14,I25>69)), "Please Call",IF(AND(AND(H25>=37,H25<41.99),OR(I25<15,I25>36)), "Please Call",IF(AND(AND(H25>=42,H25<47.99),OR(I25<18,I25>36)), "Please Call",IF(AND(AND(H25>=48,H25<49.99),OR(I25<18,I25>35)), "Please Call",IF(AND(AND(H25>=50,H25<50.99),OR(I25<18,I25>34)), "Please Call",IF(AND(AND(H25>=51,H25<52.99),OR(I25<18,I25>33)), "Please Call",IF(AND(AND(H25>=53,H25<53.99),OR(I25<18,I25>32)), "Please Call",IF(AND(AND(H25>=54,H25<55.99),OR(I25<18,I25>31)), "Please Call",IF(AND(AND(H25>=56,H25<57.99),OR(I25<18,I25>30)), "Please Call",IF(AND(AND(H25>=58,H25<59.99),OR(I25<18,I25>29)), "Please Call",IF(AND(AND(H25>=60,H25<61.99),OR(I25<18,I25>28)), "Please Call",IF(AND(AND(H25>=62,H25<63.99),OR(I25<18,I25>27)), "Please Call",IF(AND(AND(H25>=64,H25<66.99),OR(I25<18,I25>26)), "Please Call",IF(AND(AND(H25>=67,H25<69.99),OR(I25<18,I25>25)), "Please Call",IF(AND(AND(H25>=70,H25<71.99),OR(I25<18,I25>24)), "Please Call",IF(AND(AND(H25>=72,H25<75.99),OR(I25<18,I25>23)), "Please Call",IF(AND(AND(H25>=76,H25<77.99),OR(I25<18,I25>22)), "Please Call",IF(AND(AND(H25>=78,H25<80),OR(I25<18,I25>21)), "Please Call","OKAY"))))))))))))))))))))))))))))) | Z25: =IF(A25="","",IF(OR(A25=$AD$100,A25=$AD$99,A25=$AD$101,A25=$AD$103),"N/A",IF(AND(H25>36,I25>36),"Please Call",IF(AND(AND(H25>=15,H25<15.99),OR(I25<12,I25>13.99)), "Please Call",IF(AND(AND(H25>=16,H25<16.99),OR(I25<12,I25>15.99)), "Please Call",IF(AND(AND(H25>=17,H25<17.99),OR(I25<12,I25>18.99)), "Please Call",IF(AND(AND(H25>=18,H25<18.99),OR(I25<12,I25>20.99)), "Please Call",IF(AND(AND(H25>=19,H25<19.99),OR(I25<12,I25>22.99)), "Please Call",IF(AND(AND(H25>=20,H25<20.99),OR(I25<12,I25>24.99)), "Please Call",IF(AND(AND(H25>=21,H25<21.99),OR(I25<12,I25>26.99)), "Please Call",IF(AND(AND(H25>=22,H25<22.99),OR(I25<12,I25>28.99)), "Please Call",IF(AND(AND(H25>=23,H25<23.99),OR(I25<12,I25>30.99)), "Please Call",IF(AND(AND(H25>=24,H25<24.99),OR(I25<12,I25>31.99)), "Please Call",IF(AND(AND(H25>=25,H25<25.99),OR(I25<12,I25>35.99)), "Please Call",IF(AND(AND(H25>=26,H25<26.99),OR(I25<12,I25>36.99)), "Please Call",IF(AND(AND(H25>=27,H25<28.99),OR(I25<12,I25>37.99)), "Please Call",IF(AND(AND(H25>=29,H25<29.99),OR(I25<12,I25>39.99)), "Please Call",IF(AND(AND(H25>=30,H25<32.99),OR(I25<12,I25>41)), "Please Call",IF(AND(AND(H25>=33,H25<33.99),OR(I25<12,I25>39.99)), "Please Call",IF(AND(AND(H25>=34,H25<34.99),OR(I25<12,I25>38.99)), "Please Call",IF(AND(AND(H25>=35,H25<35.99),OR(I25<12,I25>37.99)), "Please Call",IF(AND(AND(H25>=36,H25<36.99),OR(I25<12,I25>36.99)), "Please Call",IF(AND(AND(H25>=37,H25<37.99),OR(I25<12,I25>35.99)), "Please Call",IF(AND(AND(H25>=38,H25<38.99),OR(I25<12,I25>34.99)), "Please Call",IF(AND(AND(H25>=39,H25<39.99),OR(I25<12,I25>33.99)), "Please Call",IF(AND(AND(H25>=40,H25<40.99),OR(I25<12,I25>32.99)), "Please Call",IF(AND(AND(H25>=41,H25<41.99),OR(I25<12,I25>31.99)), "Please Call",IF(AND(AND(H25>=42,H25<43.99),OR(I25<12,I25>30.99)), "Please Call",IF(AND(AND(H25>=44,H25<44.99),OR(I25<12,I25>29.99)), "Please Call",IF(AND(AND(H25>=45,H25<46.99),OR(I25<12,I25>28.99)), "Please Call",IF(AND(AND(H25>=47,H25<48.99),OR(I25<12,I25>27.99)), "Please Call",IF(AND(AND(H25>=49,H25<49.99),OR(I25<12,I25>26.99)), "Please Call",IF(AND(AND(H25>=50,H25<51.99),OR(I25<12,I25>25.99)), "Please Call",IF(AND(AND(H25>=52,H25<54),OR(I25<12,I25>24.99)), "Please Call","OKAY")))))))))))))))))))))))))))))))))) | AA25: =IF(A25="","",IF(OR(A25=$AD$99,A25=$AD$100,A25=$AD$101,A25=$AD$102,C25=$AD$81),"N/A",IF(AND(AND(H25<8,H25>48),OR(I25<18,I25>80)), "Please Call",IF(AND(H25>36,I25>36),"Please Call",IF(K25>18.2,"Please Call","OKAY"))))) | AB25: =IF(A25="","",IF(OR(A25=$AD$99,A25=$AD$100,A25=$AD$101,A25=$AD$102,C25=$AD$82),"N/A",IF(AND(AND(H25<8,H25>48),OR(I25<18,I25>80)), "Please Call",IF(AND(H25>36,I25>36),"Please Call",IF(K25>=15,"Please Call","OKAY"))))) | AC25: =VLOOKUP(A25,$AD$99:$AE$103,2,0) -> #N/A | AD25: =VLOOKUP(C25,$AD$81:$AE$82,2,0) -> #N/A | AE25: =VLOOKUP(D25,$AD$58:$AE$70,2,0) -> #N/A | AF25: =IF(AND(K25>=1,K25<=2),$AD$105,IF(AND(K25>=2,K25<=3),$AD$106,IF(AND(K25>=3,K25<=5),$AD$107,IF(AND(K25>=5,K25<=7),$AD$108,IF(AND(K25>=7,K25<=9),$AD$109,IF(AND(K25>=9,K25<=11),$AD$110,IF(AND(K25>=11,K25<=13),$AD$111,IF(AND(K25>=13,K25<=15),$AD$112,IF(AND(K25>=15,K25<=17),$AD$113,IF(AND(K25>=17,K25<=19),$AD$114,"INVALID CODE")))))))))) -> INVALID CODE | AG25: =VLOOKUP(AF25,$AD$105:$AE$114,2,0) -> #N/A | AH25: =CONCATENATE(AC25,AD25,AE25,AG25) -> #N/A | AI25: =VLOOKUP(AH25,'Price DATA'!$A$8:$C$1156,3,0) -> #N/A | AJ25: =VLOOKUP(G25,$AD$92:$AE$97,2,0) -> #N/A | AK25: =IF(AJ25="Upcharge",(VLOOKUP(AD25,$AE$81:$AF$82,2,0)),0) -> #N/A | AL25: =IF(A25=$AD$100,VLOOKUP(C25,$AD$81:$AG$82,4,0),IF(A25=$AD$103,VLOOKUP(C25,$AD$81:$AH$82,5,0),VLOOKUP(A25,$AD$83:$AG$86,4,0))) -> #N/A | AP25: 14 | AQ25: 42 | AS25: 8.625 | AT25: 13 | AU25: 30 | AW25: 8 | AX25: 12 | AZ25: 15 | BA25: 12 | BC25: 8 | BD25: 18
K26: =IF(I26="","",ROUND(((H26*I26)/144),2)) | L26: =IF(K26="","",IF(K26>AL26,"",(AI26+AK26))) | M26: =IF(F26=$AF$89,'Price DATA'!$U$3,0) -> 0 | N26: =IF(OR(A26="",B26="",C26="",D26="",E26="",,F26="",G26="",H26="",I26="",J26=""),"",IF(OR(AF26="INVALID CODE",V26="Please Call",W26="Please Call",X26="Please Call",Y26="Please Call",Z26="Please Call",AA26="Please Call",AB26="Please Call"),"Please Call",IF(K26>AL26,"Please Call",IF(AND(E26=$AD$89,I26<30),"Incorrect Operator Position",IF(AND(H26>=36,I26>=36),"Please Call",IF(OR(V26="OKAY",W26="OKAY",X26="OKAY",Y26="OKAY",Z26="OKAY",AA26="OKAY",,AB26="OKAY"),((L26*K26)+M26),"")))))) | O26: =IF(OR(J26="",N26="",N26="Please Call",N26="Incorrect Operator Position"),"",J26*N26) | V26: =IF(A26="","",IF(OR(A26=$AD$100,A26=$AD$99,A26=$AD$102,A26=$AD$103),"N/A",IF(AND(H26>36,I26>36),"Please Call",IF(AND(AND(H26>=8,H26<9.99),OR(I26<12,I26>36)), "Please Call",IF(AND(AND(H26>=10,H26<13.99),OR(I26<12,I26>54)), "Please Call",IF(AND(AND(H26>=14,H26<19.99),OR(I26<12,I26>68)), "Please Call",IF(AND(AND(H26>=20,H26<20.99),OR(I26<12,I26>65)), "Please Call",IF(AND(AND(H26>=21,H26<21.99),OR(I26<12,I26>62)), "Please Call",IF(AND(AND(H26>=22,H26<22.99),OR(I26<12,I26>59)), "Please Call",IF(AND(AND(H26>=23,H26<23.99),OR(I26<12,I26>57)), "Please Call",IF(AND(AND(H26>=24,H26<24.99),OR(I26<12,I26>54)), "Please Call",IF(AND(AND(H26>=25,H26<25.99),OR(I26<12,I26>52)), "Please Call",IF(AND(AND(H26>=26,H26<26.99),OR(I26<12,I26>50)), "Please Call",IF(AND(AND(H26>=27,H26<27.99),OR(I26<12,I26>49)), "Please Call",IF(AND(AND(H26>=28,H26<28.99),OR(I26<12,I26>47)), "Please Call",IF(AND(AND(H26>=29,H26<29.99),OR(I26<12,I26>45)), "Please Call",IF(AND(AND(H26>=30,H26<30.99),OR(I26<12,I26>44)), "Please Call",IF(AND(AND(H26>=31,H26<31.99),OR(I26<12,I26>42)), "Please Call",IF(AND(AND(H26>=32,H26<32.99),OR(I26<12,I26>41)), "Please Call",IF(AND(AND(H26>=33,H26<33.99),OR(I26<12,I26>40)), "Please Call",IF(AND(AND(H26>=34,H26<34.99),OR(I26<12,I26>39)), "Please Call",IF(AND(AND(H26>=35,H26<35.99),OR(I26<12,I26>38)), "Please Call",IF(AND(AND(H26>=36,H26<36.99),OR(I26<12,I26>37)), "Please Call",IF(AND(AND(H26>=37,H26<37.99),OR(I26<12,I26>36)), "Please Call",IF(AND(AND(H26>=38,H26<38.99),OR(I26<12,I26>35)), "Please Call",IF(AND(AND(H26>=39,H26<39.99),OR(I26<12,I26>34)), "Please Call",IF(AND(AND(H26>=40,H26<40.99),OR(I26<12,I26>33)), "Please Call",IF(AND(AND(H26>=41,H26<41.99),OR(I26<12,I26>32)), "Please Call",IF(AND(AND(H26>=42,H26<45.99),OR(I26<12,I26>31)), "Please Call",IF(AND(AND(H26>=46,H26<47.99),OR(I26<12,I26>30)), "Please Call",IF(AND(AND(H26>=48,H26<48.99),OR(I26<12,I26>29)), "Please Call",IF(AND(AND(H26>=49,H26<50.99),OR(I26<12,I26>28)), "Please Call",IF(AND(AND(H26>=51,H26<54),OR(I26<12,I26>26)), "Please Call","OKAY"))))))))))))))))))))))))))))))))) | W26: =IF(A26="","",IF(OR(A26=$AD$100,A26=$AD$101,A26=$AD$102,A26=$AD$103),"N/A",IF(AND(H26>36,I26>36),"Please Call",IF(AND(AND(H26>=14,H26<29.99),OR(I26<42,I26>80)), "Please Call",IF(AND(AND(H26>=30,H26<30.99),OR(I26<42,I26>79)), "Please Call",IF(AND(AND(H26>=31,H26<31.99),OR(I26<42,I26>76)), "Please Call",IF(AND(AND(H26>=32,H26<32.99),OR(I26<42,I26>74)), "Please Call",IF(AND(AND(H26>=33,H26<33.99),OR(I26<42,I26>72)), "Please Call",IF(AND(AND(H26>=34,H26<34.99),OR(I26<42,I26>70)), "Please Call",IF(AND(AND(H26>=35,H26<36),OR(I26<42,I26>69)), "Please Call","OKAY")))))))))) | X26: =IF(A26="","",IF(OR(A26=$AD$101,A26=$AD$99,A26=$AD$102,C26=$AD$82,A26=$AD$103),"N/A",IF(AND(H26>36,I26>36),"Please Call",IF(AND(AND(H26>=8.625,H26<9.99),OR(I26<13,I26>36)), "Please Call",IF(AND(AND(H26>=10,H26<13.99),OR(I26<13,I26>48)), "Please Call",IF(AND(AND(H26>=14,H26<24.99),OR(I26<13,I26>80)), "Please Call",IF(AND(AND(H26>=25,H26<26.99),OR(I26<14,I26>80)), "Please Call",IF(AND(AND(H26>=27,H26<27.99),OR(I26<14,I26>79)), "Please Call",IF(AND(AND(H26>=28,H26<28.99),OR(I26<14,I26>77)), "Please Call",IF(AND(AND(H26>=29,H26<29.99),OR(I26<14,I26>75)), "Please Call",IF(AND(AND(H26>=30,H26<30.99),OR(I26<14,I26>72)), "Please Call",IF(AND(AND(H26>=31,H26<31.99),OR(I26<14,I26>70)), "Please Call",IF(AND(AND(H26>=32,H26<32.99),OR(I26<14,I26>68)), "Please Call",IF(AND(AND(H26>=33,H26<33.99),OR(I26<14,I26>66)), "Please Call",IF(AND(AND(H26>=34,H26<34.99),OR(I26<14,I26>64)), "Please Call",IF(AND(AND(H26>=35,H26<35.99),OR(I26<14,I26>62)), "Please Call",IF(AND(AND(H26>=36,H26<36.99),OR(I26<14,I26>60)), "Please Call",IF(AND(AND(H26>=37,H26<41.99),OR(I26<15,I26>36)), "Please Call",IF(AND(AND(H26>=42,H26<59.99),OR(I26<18,I26>36)), "Please Call",IF(AND(AND(H26>=60,H26<61.99),OR(I26<18,I26>35)), "Please Call",IF(AND(AND(H26>=62,H26<63.99),OR(I26<18,I26>34)), "Please Call",IF(AND(AND(H26>=64,H26<65.99),OR(I26<18,I26>33)), "Please Call",IF(AND(AND(H26>=66,H26<67.99),OR(I26<18,I26>32)), "Please Call",IF(AND(AND(H26>=68,H26<69.99),OR(I26<18,I26>31)), "Please Call",IF(AND(AND(H26>=70,H26<71.99),OR(I26<18,I26>30)), "Please Call",IF(AND(AND(H26>=72,H26<74.99),OR(I26<18,I26>29)), "Please Call",IF(AND(AND(H26>=75,H26<77.99),OR(I26<18,I26>28)), "Please Call",IF(AND(AND(H26>=78,H26<78.99),OR(I26<18,I26>27)), "Please Call",IF(AND(AND(H26>=79,H26<80),OR(I26<18,I26>26)), "Please Call","OKAY"))))))))))))))))))))))))))))) | Y26: =IF(A26="","",IF(OR(A26=$AD$99,A26=$AD$101,A26=$AD$102,C26=$AD$81,A26=$AD$103),"N/A",IF(AND(H26>36,I26>36),"Please Call",IF(AND(AND(H26>=8.625,H26<9.99),OR(I26<13,I26>36)), "Please Call",IF(AND(AND(H26>=10,H26<13.99),OR(I26<13,I26>48)), "Please Call",IF(AND(AND(H26>=14,H26<24.99),OR(I26<13,I26>80)), "Please Call",IF(AND(AND(H26>=25,H26<30.99),OR(I26<14,I26>80)), "Please Call",IF(AND(AND(H26>=31,H26<31.99),OR(I26<14,I26>78)), "Please Call",IF(AND(AND(H26>=32,H26<32.99),OR(I26<14,I26>76)), "Please Call",IF(AND(AND(H26>=33,H26<33.99),OR(I26<14,I26>75)), "Please Call",IF(AND(AND(H26>=34,H26<34.99),OR(I26<14,I26>73)), "Please Call",IF(AND(AND(H26>=35,H26<36.99),OR(I26<14,I26>69)), "Please Call",IF(AND(AND(H26>=37,H26<41.99),OR(I26<15,I26>36)), "Please Call",IF(AND(AND(H26>=42,H26<47.99),OR(I26<18,I26>36)), "Please Call",IF(AND(AND(H26>=48,H26<49.99),OR(I26<18,I26>35)), "Please Call",IF(AND(AND(H26>=50,H26<50.99),OR(I26<18,I26>34)), "Please Call",IF(AND(AND(H26>=51,H26<52.99),OR(I26<18,I26>33)), "Please Call",IF(AND(AND(H26>=53,H26<53.99),OR(I26<18,I26>32)), "Please Call",IF(AND(AND(H26>=54,H26<55.99),OR(I26<18,I26>31)), "Please Call",IF(AND(AND(H26>=56,H26<57.99),OR(I26<18,I26>30)), "Please Call",IF(AND(AND(H26>=58,H26<59.99),OR(I26<18,I26>29)), "Please Call",IF(AND(AND(H26>=60,H26<61.99),OR(I26<18,I26>28)), "Please Call",IF(AND(AND(H26>=62,H26<63.99),OR(I26<18,I26>27)), "Please Call",IF(AND(AND(H26>=64,H26<66.99),OR(I26<18,I26>26)), "Please Call",IF(AND(AND(H26>=67,H26<69.99),OR(I26<18,I26>25)), "Please Call",IF(AND(AND(H26>=70,H26<71.99),OR(I26<18,I26>24)), "Please Call",IF(AND(AND(H26>=72,H26<75.99),OR(I26<18,I26>23)), "Please Call",IF(AND(AND(H26>=76,H26<77.99),OR(I26<18,I26>22)), "Please Call",IF(AND(AND(H26>=78,H26<80),OR(I26<18,I26>21)), "Please Call","OKAY"))))))))))))))))))))))))))))) | Z26: =IF(A26="","",IF(OR(A26=$AD$100,A26=$AD$99,A26=$AD$101,A26=$AD$103),"N/A",IF(AND(H26>36,I26>36),"Please Call",IF(AND(AND(H26>=15,H26<15.99),OR(I26<12,I26>13.99)), "Please Call",IF(AND(AND(H26>=16,H26<16.99),OR(I26<12,I26>15.99)), "Please Call",IF(AND(AND(H26>=17,H26<17.99),OR(I26<12,I26>18.99)), "Please Call",IF(AND(AND(H26>=18,H26<18.99),OR(I26<12,I26>20.99)), "Please Call",IF(AND(AND(H26>=19,H26<19.99),OR(I26<12,I26>22.99)), "Please Call",IF(AND(AND(H26>=20,H26<20.99),OR(I26<12,I26>24.99)), "Please Call",IF(AND(AND(H26>=21,H26<21.99),OR(I26<12,I26>26.99)), "Please Call",IF(AND(AND(H26>=22,H26<22.99),OR(I26<12,I26>28.99)), "Please Call",IF(AND(AND(H26>=23,H26<23.99),OR(I26<12,I26>30.99)), "Please Call",IF(AND(AND(H26>=24,H26<24.99),OR(I26<12,I26>31.99)), "Please Call",IF(AND(AND(H26>=25,H26<25.99),OR(I26<12,I26>35.99)), "Please Call",IF(AND(AND(H26>=26,H26<26.99),OR(I26<12,I26>36.99)), "Please Call",IF(AND(AND(H26>=27,H26<28.99),OR(I26<12,I26>37.99)), "Please Call",IF(AND(AND(H26>=29,H26<29.99),OR(I26<12,I26>39.99)), "Please Call",IF(AND(AND(H26>=30,H26<32.99),OR(I26<12,I26>41)), "Please Call",IF(AND(AND(H26>=33,H26<33.99),OR(I26<12,I26>39.99)), "Please Call",IF(AND(AND(H26>=34,H26<34.99),OR(I26<12,I26>38.99)), "Please Call",IF(AND(AND(H26>=35,H26<35.99),OR(I26<12,I26>37.99)), "Please Call",IF(AND(AND(H26>=36,H26<36.99),OR(I26<12,I26>36.99)), "Please Call",IF(AND(AND(H26>=37,H26<37.99),OR(I26<12,I26>35.99)), "Please Call",IF(AND(AND(H26>=38,H26<38.99),OR(I26<12,I26>34.99)), "Please Call",IF(AND(AND(H26>=39,H26<39.99),OR(I26<12,I26>33.99)), "Please Call",IF(AND(AND(H26>=40,H26<40.99),OR(I26<12,I26>32.99)), "Please Call",IF(AND(AND(H26>=41,H26<41.99),OR(I26<12,I26>31.99)), "Please Call",IF(AND(AND(H26>=42,H26<43.99),OR(I26<12,I26>30.99)), "Please Call",IF(AND(AND(H26>=44,H26<44.99),OR(I26<12,I26>29.99)), "Please Call",IF(AND(AND(H26>=45,H26<46.99),OR(I26<12,I26>28.99)), "Please Call",IF(AND(AND(H26>=47,H26<48.99),OR(I26<12,I26>27.99)), "Please Call",IF(AND(AND(H26>=49,H26<49.99),OR(I26<12,I26>26.99)), "Please Call",IF(AND(AND(H26>=50,H26<51.99),OR(I26<12,I26>25.99)), "Please Call",IF(AND(AND(H26>=52,H26<54),OR(I26<12,I26>24.99)), "Please Call","OKAY")))))))))))))))))))))))))))))))))) | AA26: =IF(A26="","",IF(OR(A26=$AD$99,A26=$AD$100,A26=$AD$101,A26=$AD$102,C26=$AD$81),"N/A",IF(AND(AND(H26<8,H26>48),OR(I26<18,I26>80)), "Please Call",IF(AND(H26>36,I26>36),"Please Call",IF(K26>18.2,"Please Call","OKAY"))))) | AB26: =IF(A26="","",IF(OR(A26=$AD$99,A26=$AD$100,A26=$AD$101,A26=$AD$102,C26=$AD$82),"N/A",IF(AND(AND(H26<8,H26>48),OR(I26<18,I26>80)), "Please Call",IF(AND(H26>36,I26>36),"Please Call",IF(K26>=15,"Please Call","OKAY"))))) | AC26: =VLOOKUP(A26,$AD$99:$AE$103,2,0) -> #N/A | AD26: =VLOOKUP(C26,$AD$81:$AE$82,2,0) -> #N/A | AE26: =VLOOKUP(D26,$AD$58:$AE$70,2,0) -> #N/A | AF26: =IF(AND(K26>=1,K26<=2),$AD$105,IF(AND(K26>=2,K26<=3),$AD$106,IF(AND(K26>=3,K26<=5),$AD$107,IF(AND(K26>=5,K26<=7),$AD$108,IF(AND(K26>=7,K26<=9),$AD$109,IF(AND(K26>=9,K26<=11),$AD$110,IF(AND(K26>=11,K26<=13),$AD$111,IF(AND(K26>=13,K26<=15),$AD$112,IF(AND(K26>=15,K26<=17),$AD$113,IF(AND(K26>=17,K26<=19),$AD$114,"INVALID CODE")))))))))) -> INVALID CODE | AG26: =VLOOKUP(AF26,$AD$105:$AE$114,2,0) -> #N/A | AH26: =CONCATENATE(AC26,AD26,AE26,AG26) -> #N/A | AI26: =VLOOKUP(AH26,'Price DATA'!$A$8:$C$1156,3,0) -> #N/A | AJ26: =VLOOKUP(G26,$AD$92:$AE$97,2,0) -> #N/A | AK26: =IF(AJ26="Upcharge",(VLOOKUP(AD26,$AE$81:$AF$82,2,0)),0) -> #N/A | AL26: =IF(A26=$AD$100,VLOOKUP(C26,$AD$81:$AG$82,4,0),IF(A26=$AD$103,VLOOKUP(C26,$AD$81:$AH$82,5,0),VLOOKUP(A26,$AD$83:$AG$86,4,0))) -> #N/A | AP26: =AP25+0.0625 -> 14.0625 | AQ26: =AQ25+0.0625 -> 42.0625 | AS26: =AS25+0.0625 -> 8.6875 | AT26: =AT25+0.0625 -> 13.0625 | AU26: =AU25+0.0625 -> 30.0625 | AW26: =AW25+0.0625 -> 8.0625 | AX26: =AX25+0.0625 -> 12.0625 | AZ26: =AZ25+0.0625 -> 15.0625 | BA26: =BA25+0.0625 -> 12.0625 | BC26: =BC25+0.0625 -> 8.0625 | BD26: =BD25+0.0625 -> 18.0625
K27: =IF(I27="","",ROUND(((H27*I27)/144),2)) | L27: =IF(K27="","",IF(K27>AL27,"",(AI27+AK27))) | M27: =IF(F27=$AF$89,'Price DATA'!$U$3,0) -> 0 | N27: =IF(OR(A27="",B27="",C27="",D27="",E27="",,F27="",G27="",H27="",I27="",J27=""),"",IF(OR(AF27="INVALID CODE",V27="Please Call",W27="Please Call",X27="Please Call",Y27="Please Call",Z27="Please Call",AA27="Please Call",AB27="Please Call"),"Please Call",IF(K27>AL27,"Please Call",IF(AND(E27=$AD$89,I27<30),"Incorrect Operator Position",IF(AND(H27>=36,I27>=36),"Please Call",IF(OR(V27="OKAY",W27="OKAY",X27="OKAY",Y27="OKAY",Z27="OKAY",AA27="OKAY",,AB27="OKAY"),((L27*K27)+M27),"")))))) | O27: =IF(OR(J27="",N27="",N27="Please Call",N27="Incorrect Operator Position"),"",J27*N27) | V27: =IF(A27="","",IF(OR(A27=$AD$100,A27=$AD$99,A27=$AD$102,A27=$AD$103),"N/A",IF(AND(H27>36,I27>36),"Please Call",IF(AND(AND(H27>=8,H27<9.99),OR(I27<12,I27>36)), "Please Call",IF(AND(AND(H27>=10,H27<13.99),OR(I27<12,I27>54)), "Please Call",IF(AND(AND(H27>=14,H27<19.99),OR(I27<12,I27>68)), "Please Call",IF(AND(AND(H27>=20,H27<20.99),OR(I27<12,I27>65)), "Please Call",IF(AND(AND(H27>=21,H27<21.99),OR(I27<12,I27>62)), "Please Call",IF(AND(AND(H27>=22,H27<22.99),OR(I27<12,I27>59)), "Please Call",IF(AND(AND(H27>=23,H27<23.99),OR(I27<12,I27>57)), "Please Call",IF(AND(AND(H27>=24,H27<24.99),OR(I27<12,I27>54)), "Please Call",IF(AND(AND(H27>=25,H27<25.99),OR(I27<12,I27>52)), "Please Call",IF(AND(AND(H27>=26,H27<26.99),OR(I27<12,I27>50)), "Please Call",IF(AND(AND(H27>=27,H27<27.99),OR(I27<12,I27>49)), "Please Call",IF(AND(AND(H27>=28,H27<28.99),OR(I27<12,I27>47)), "Please Call",IF(AND(AND(H27>=29,H27<29.99),OR(I27<12,I27>45)), "Please Call",IF(AND(AND(H27>=30,H27<30.99),OR(I27<12,I27>44)), "Please Call",IF(AND(AND(H27>=31,H27<31.99),OR(I27<12,I27>42)), "Please Call",IF(AND(AND(H27>=32,H27<32.99),OR(I27<12,I27>41)), "Please Call",IF(AND(AND(H27>=33,H27<33.99),OR(I27<12,I27>40)), "Please Call",IF(AND(AND(H27>=34,H27<34.99),OR(I27<12,I27>39)), "Please Call",IF(AND(AND(H27>=35,H27<35.99),OR(I27<12,I27>38)), "Please Call",IF(AND(AND(H27>=36,H27<36.99),OR(I27<12,I27>37)), "Please Call",IF(AND(AND(H27>=37,H27<37.99),OR(I27<12,I27>36)), "Please Call",IF(AND(AND(H27>=38,H27<38.99),OR(I27<12,I27>35)), "Please Call",IF(AND(AND(H27>=39,H27<39.99),OR(I27<12,I27>34)), "Please Call",IF(AND(AND(H27>=40,H27<40.99),OR(I27<12,I27>33)), "Please Call",IF(AND(AND(H27>=41,H27<41.99),OR(I27<12,I27>32)), "Please Call",IF(AND(AND(H27>=42,H27<45.99),OR(I27<12,I27>31)), "Please Call",IF(AND(AND(H27>=46,H27<47.99),OR(I27<12,I27>30)), "Please Call",IF(AND(AND(H27>=48,H27<48.99),OR(I27<12,I27>29)), "Please Call",IF(AND(AND(H27>=49,H27<50.99),OR(I27<12,I27>28)), "Please Call",IF(AND(AND(H27>=51,H27<54),OR(I27<12,I27>26)), "Please Call","OKAY"))))))))))))))))))))))))))))))))) | W27: =IF(A27="","",IF(OR(A27=$AD$100,A27=$AD$101,A27=$AD$102,A27=$AD$103),"N/A",IF(AND(H27>36,I27>36),"Please Call",IF(AND(AND(H27>=14,H27<29.99),OR(I27<42,I27>80)), "Please Call",IF(AND(AND(H27>=30,H27<30.99),OR(I27<42,I27>79)), "Please Call",IF(AND(AND(H27>=31,H27<31.99),OR(I27<42,I27>76)), "Please Call",IF(AND(AND(H27>=32,H27<32.99),OR(I27<42,I27>74)), "Please Call",IF(AND(AND(H27>=33,H27<33.99),OR(I27<42,I27>72)), "Please Call",IF(AND(AND(H27>=34,H27<34.99),OR(I27<42,I27>70)), "Please Call",IF(AND(AND(H27>=35,H27<36),OR(I27<42,I27>69)), "Please Call","OKAY")))))))))) | X27: =IF(A27="","",IF(OR(A27=$AD$101,A27=$AD$99,A27=$AD$102,C27=$AD$82,A27=$AD$103),"N/A",IF(AND(H27>36,I27>36),"Please Call",IF(AND(AND(H27>=8.625,H27<9.99),OR(I27<13,I27>36)), "Please Call",IF(AND(AND(H27>=10,H27<13.99),OR(I27<13,I27>48)), "Please Call",IF(AND(AND(H27>=14,H27<24.99),OR(I27<13,I27>80)), "Please Call",IF(AND(AND(H27>=25,H27<26.99),OR(I27<14,I27>80)), "Please Call",IF(AND(AND(H27>=27,H27<27.99),OR(I27<14,I27>79)), "Please Call",IF(AND(AND(H27>=28,H27<28.99),OR(I27<14,I27>77)), "Please Call",IF(AND(AND(H27>=29,H27<29.99),OR(I27<14,I27>75)), "Please Call",IF(AND(AND(H27>=30,H27<30.99),OR(I27<14,I27>72)), "Please Call",IF(AND(AND(H27>=31,H27<31.99),OR(I27<14,I27>70)), "Please Call",IF(AND(AND(H27>=32,H27<32.99),OR(I27<14,I27>68)), "Please Call",IF(AND(AND(H27>=33,H27<33.99),OR(I27<14,I27>66)), "Please Call",IF(AND(AND(H27>=34,H27<34.99),OR(I27<14,I27>64)), "Please Call",IF(AND(AND(H27>=35,H27<35.99),OR(I27<14,I27>62)), "Please Call",IF(AND(AND(H27>=36,H27<36.99),OR(I27<14,I27>60)), "Please Call",IF(AND(AND(H27>=37,H27<41.99),OR(I27<15,I27>36)), "Please Call",IF(AND(AND(H27>=42,H27<59.99),OR(I27<18,I27>36)), "Please Call",IF(AND(AND(H27>=60,H27<61.99),OR(I27<18,I27>35)), "Please Call",IF(AND(AND(H27>=62,H27<63.99),OR(I27<18,I27>34)), "Please Call",IF(AND(AND(H27>=64,H27<65.99),OR(I27<18,I27>33)), "Please Call",IF(AND(AND(H27>=66,H27<67.99),OR(I27<18,I27>32)), "Please Call",IF(AND(AND(H27>=68,H27<69.99),OR(I27<18,I27>31)), "Please Call",IF(AND(AND(H27>=70,H27<71.99),OR(I27<18,I27>30)), "Please Call",IF(AND(AND(H27>=72,H27<74.99),OR(I27<18,I27>29)), "Please Call",IF(AND(AND(H27>=75,H27<77.99),OR(I27<18,I27>28)), "Please Call",IF(AND(AND(H27>=78,H27<78.99),OR(I27<18,I27>27)), "Please Call",IF(AND(AND(H27>=79,H27<80),OR(I27<18,I27>26)), "Please Call","OKAY"))))))))))))))))))))))))))))) | Y27: =IF(A27="","",IF(OR(A27=$AD$99,A27=$AD$101,A27=$AD$102,C27=$AD$81,A27=$AD$103),"N/A",IF(AND(H27>36,I27>36),"Please Call",IF(AND(AND(H27>=8.625,H27<9.99),OR(I27<13,I27>36)), "Please Call",IF(AND(AND(H27>=10,H27<13.99),OR(I27<13,I27>48)), "Please Call",IF(AND(AND(H27>=14,H27<24.99),OR(I27<13,I27>80)), "Please Call",IF(AND(AND(H27>=25,H27<30.99),OR(I27<14,I27>80)), "Please Call",IF(AND(AND(H27>=31,H27<31.99),OR(I27<14,I27>78)), "Please Call",IF(AND(AND(H27>=32,H27<32.99),OR(I27<14,I27>76)), "Please Call",IF(AND(AND(H27>=33,H27<33.99),OR(I27<14,I27>75)), "Please Call",IF(AND(AND(H27>=34,H27<34.99),OR(I27<14,I27>73)), "Please Call",IF(AND(AND(H27>=35,H27<36.99),OR(I27<14,I27>69)), "Please Call",IF(AND(AND(H27>=37,H27<41.99),OR(I27<15,I27>36)), "Please Call",IF(AND(AND(H27>=42,H27<47.99),OR(I27<18,I27>36)), "Please Call",IF(AND(AND(H27>=48,H27<49.99),OR(I27<18,I27>35)), "Please Call",IF(AND(AND(H27>=50,H27<50.99),OR(I27<18,I27>34)), "Please Call",IF(AND(AND(H27>=51,H27<52.99),OR(I27<18,I27>33)), "Please Call",IF(AND(AND(H27>=53,H27<53.99),OR(I27<18,I27>32)), "Please Call",IF(AND(AND(H27>=54,H27<55.99),OR(I27<18,I27>31)), "Please Call",IF(AND(AND(H27>=56,H27<57.99),OR(I27<18,I27>30)), "Please Call",IF(AND(AND(H27>=58,H27<59.99),OR(I27<18,I27>29)), "Please Call",IF(AND(AND(H27>=60,H27<61.99),OR(I27<18,I27>28)), "Please Call",IF(AND(AND(H27>=62,H27<63.99),OR(I27<18,I27>27)), "Please Call",IF(AND(AND(H27>=64,H27<66.99),OR(I27<18,I27>26)), "Please Call",IF(AND(AND(H27>=67,H27<69.99),OR(I27<18,I27>25)), "Please Call",IF(AND(AND(H27>=70,H27<71.99),OR(I27<18,I27>24)), "Please Call",IF(AND(AND(H27>=72,H27<75.99),OR(I27<18,I27>23)), "Please Call",IF(AND(AND(H27>=76,H27<77.99),OR(I27<18,I27>22)), "Please Call",IF(AND(AND(H27>=78,H27<80),OR(I27<18,I27>21)), "Please Call","OKAY"))))))))))))))))))))))))))))) | Z27: =IF(A27="","",IF(OR(A27=$AD$100,A27=$AD$99,A27=$AD$101,A27=$AD$103),"N/A",IF(AND(H27>36,I27>36),"Please Call",IF(AND(AND(H27>=15,H27<15.99),OR(I27<12,I27>13.99)), "Please Call",IF(AND(AND(H27>=16,H27<16.99),OR(I27<12,I27>15.99)), "Please Call",IF(AND(AND(H27>=17,H27<17.99),OR(I27<12,I27>18.99)), "Please Call",IF(AND(AND(H27>=18,H27<18.99),OR(I27<12,I27>20.99)), "Please Call",IF(AND(AND(H27>=19,H27<19.99),OR(I27<12,I27>22.99)), "Please Call",IF(AND(AND(H27>=20,H27<20.99),OR(I27<12,I27>24.99)), "Please Call",IF(AND(AND(H27>=21,H27<21.99),OR(I27<12,I27>26.99)), "Please Call",IF(AND(AND(H27>=22,H27<22.99),OR(I27<12,I27>28.99)), "Please Call",IF(AND(AND(H27>=23,H27<23.99),OR(I27<12,I27>30.99)), "Please Call",IF(AND(AND(H27>=24,H27<24.99),OR(I27<12,I27>31.99)), "Please Call",IF(AND(AND(H27>=25,H27<25.99),OR(I27<12,I27>35.99)), "Please Call",IF(AND(AND(H27>=26,H27<26.99),OR(I27<12,I27>36.99)), "Please Call",IF(AND(AND(H27>=27,H27<28.99),OR(I27<12,I27>37.99)), "Please Call",IF(AND(AND(H27>=29,H27<29.99),OR(I27<12,I27>39.99)), "Please Call",IF(AND(AND(H27>=30,H27<32.99),OR(I27<12,I27>41)), "Please Call",IF(AND(AND(H27>=33,H27<33.99),OR(I27<12,I27>39.99)), "Please Call",IF(AND(AND(H27>=34,H27<34.99),OR(I27<12,I27>38.99)), "Please Call",IF(AND(AND(H27>=35,H27<35.99),OR(I27<12,I27>37.99)), "Please Call",IF(AND(AND(H27>=36,H27<36.99),OR(I27<12,I27>36.99)), "Please Call",IF(AND(AND(H27>=37,H27<37.99),OR(I27<12,I27>35.99)), "Please Call",IF(AND(AND(H27>=38,H27<38.99),OR(I27<12,I27>34.99)), "Please Call",IF(AND(AND(H27>=39,H27<39.99),OR(I27<12,I27>33.99)), "Please Call",IF(AND(AND(H27>=40,H27<40.99),OR(I27<12,I27>32.99)), "Please Call",IF(AND(AND(H27>=41,H27<41.99),OR(I27<12,I27>31.99)), "Please Call",IF(AND(AND(H27>=42,H27<43.99),OR(I27<12,I27>30.99)), "Please Call",IF(AND(AND(H27>=44,H27<44.99),OR(I27<12,I27>29.99)), "Please Call",IF(AND(AND(H27>=45,H27<46.99),OR(I27<12,I27>28.99)), "Please Call",IF(AND(AND(H27>=47,H27<48.99),OR(I27<12,I27>27.99)), "Please Call",IF(AND(AND(H27>=49,H27<49.99),OR(I27<12,I27>26.99)), "Please Call",IF(AND(AND(H27>=50,H27<51.99),OR(I27<12,I27>25.99)), "Please Call",IF(AND(AND(H27>=52,H27<54),OR(I27<12,I27>24.99)), "Please Call","OKAY")))))))))))))))))))))))))))))))))) | AA27: =IF(A27="","",IF(OR(A27=$AD$99,A27=$AD$100,A27=$AD$101,A27=$AD$102,C27=$AD$81),"N/A",IF(AND(AND(H27<8,H27>48),OR(I27<18,I27>80)), "Please Call",IF(AND(H27>36,I27>36),"Please Call",IF(K27>18.2,"Please Call","OKAY"))))) | AB27: =IF(A27="","",IF(OR(A27=$AD$99,A27=$AD$100,A27=$AD$101,A27=$AD$102,C27=$AD$82),"N/A",IF(AND(AND(H27<8,H27>48),OR(I27<18,I27>80)), "Please Call",IF(AND(H27>36,I27>36),"Please Call",IF(K27>=15,"Please Call","OKAY"))))) | AC27: =VLOOKUP(A27,$AD$99:$AE$103,2,0) -> #N/A | AD27: =VLOOKUP(C27,$AD$81:$AE$82,2,0) -> #N/A | AE27: =VLOOKUP(D27,$AD$58:$AE$70,2,0) -> #N/A | AF27: =IF(AND(K27>=1,K27<=2),$AD$105,IF(AND(K27>=2,K27<=3),$AD$106,IF(AND(K27>=3,K27<=5),$AD$107,IF(AND(K27>=5,K27<=7),$AD$108,IF(AND(K27>=7,K27<=9),$AD$109,IF(AND(K27>=9,K27<=11),$AD$110,IF(AND(K27>=11,K27<=13),$AD$111,IF(AND(K27>=13,K27<=15),$AD$112,IF(AND(K27>=15,K27<=17),$AD$113,IF(AND(K27>=17,K27<=19),$AD$114,"INVALID CODE")))))))))) -> INVALID CODE | AG27: =VLOOKUP(AF27,$AD$105:$AE$114,2,0) -> #N/A | AH27: =CONCATENATE(AC27,AD27,AE27,AG27) -> #N/A | AI27: =VLOOKUP(AH27,'Price DATA'!$A$8:$C$1156,3,0) -> #N/A | AJ27: =VLOOKUP(G27,$AD$92:$AE$97,2,0) -> #N/A | AK27: =IF(AJ27="Upcharge",(VLOOKUP(AD27,$AE$81:$AF$82,2,0)),0) -> #N/A | AL27: =IF(A27=$AD$100,VLOOKUP(C27,$AD$81:$AG$82,4,0),IF(A27=$AD$103,VLOOKUP(C27,$AD$81:$AH$82,5,0),VLOOKUP(A27,$AD$83:$AG$86,4,0))) -> #N/A | AP27: =AP26+0.0625 -> 14.125 | AQ27: =AQ26+0.0625 -> 42.125 | AS27: =AS26+0.0625 -> 8.75 | AT27: =AT26+0.0625 -> 13.125 | AU27: =AU26+0.0625 -> 30.125 | AW27: =AW26+0.0625 -> 8.125 | AX27: =AX26+0.0625 -> 12.125 | AZ27: =AZ26+0.0625 -> 15.125 | BA27: =BA26+0.0625 -> 12.125 | BC27: =BC26+0.0625 -> 8.125 | BD27: =BD26+0.0625 -> 18.125
K28: =IF(I28="","",ROUND(((H28*I28)/144),2)) | L28: =IF(K28="","",IF(K28>AL28,"",(AI28+AK28))) | M28: =IF(F28=$AF$89,'Price DATA'!$U$3,0) -> 0 | N28: =IF(OR(A28="",B28="",C28="",D28="",E28="",,F28="",G28="",H28="",I28="",J28=""),"",IF(OR(AF28="INVALID CODE",V28="Please Call",W28="Please Call",X28="Please Call",Y28="Please Call",Z28="Please Call",AA28="Please Call",AB28="Please Call"),"Please Call",IF(K28>AL28,"Please Call",IF(AND(E28=$AD$89,I28<30),"Incorrect Operator Position",IF(AND(H28>=36,I28>=36),"Please Call",IF(OR(V28="OKAY",W28="OKAY",X28="OKAY",Y28="OKAY",Z28="OKAY",AA28="OKAY",,AB28="OKAY"),((L28*K28)+M28),"")))))) | O28: =IF(OR(J28="",N28="",N28="Please Call",N28="Incorrect Operator Position"),"",J28*N28) | V28: =IF(A28="","",IF(OR(A28=$AD$100,A28=$AD$99,A28=$AD$102,A28=$AD$103),"N/A",IF(AND(H28>36,I28>36),"Please Call",IF(AND(AND(H28>=8,H28<9.99),OR(I28<12,I28>36)), "Please Call",IF(AND(AND(H28>=10,H28<13.99),OR(I28<12,I28>54)), "Please Call",IF(AND(AND(H28>=14,H28<19.99),OR(I28<12,I28>68)), "Please Call",IF(AND(AND(H28>=20,H28<20.99),OR(I28<12,I28>65)), "Please Call",IF(AND(AND(H28>=21,H28<21.99),OR(I28<12,I28>62)), "Please Call",IF(AND(AND(H28>=22,H28<22.99),OR(I28<12,I28>59)), "Please Call",IF(AND(AND(H28>=23,H28<23.99),OR(I28<12,I28>57)), "Please Call",IF(AND(AND(H28>=24,H28<24.99),OR(I28<12,I28>54)), "Please Call",IF(AND(AND(H28>=25,H28<25.99),OR(I28<12,I28>52)), "Please Call",IF(AND(AND(H28>=26,H28<26.99),OR(I28<12,I28>50)), "Please Call",IF(AND(AND(H28>=27,H28<27.99),OR(I28<12,I28>49)), "Please Call",IF(AND(AND(H28>=28,H28<28.99),OR(I28<12,I28>47)), "Please Call",IF(AND(AND(H28>=29,H28<29.99),OR(I28<12,I28>45)), "Please Call",IF(AND(AND(H28>=30,H28<30.99),OR(I28<12,I28>44)), "Please Call",IF(AND(AND(H28>=31,H28<31.99),OR(I28<12,I28>42)), "Please Call",IF(AND(AND(H28>=32,H28<32.99),OR(I28<12,I28>41)), "Please Call",IF(AND(AND(H28>=33,H28<33.99),OR(I28<12,I28>40)), "Please Call",IF(AND(AND(H28>=34,H28<34.99),OR(I28<12,I28>39)), "Please Call",IF(AND(AND(H28>=35,H28<35.99),OR(I28<12,I28>38)), "Please Call",IF(AND(AND(H28>=36,H28<36.99),OR(I28<12,I28>37)), "Please Call",IF(AND(AND(H28>=37,H28<37.99),OR(I28<12,I28>36)), "Please Call",IF(AND(AND(H28>=38,H28<38.99),OR(I28<12,I28>35)), "Please Call",IF(AND(AND(H28>=39,H28<39.99),OR(I28<12,I28>34)), "Please Call",IF(AND(AND(H28>=40,H28<40.99),OR(I28<12,I28>33)), "Please Call",IF(AND(AND(H28>=41,H28<41.99),OR(I28<12,I28>32)), "Please Call",IF(AND(AND(H28>=42,H28<45.99),OR(I28<12,I28>31)), "Please Call",IF(AND(AND(H28>=46,H28<47.99),OR(I28<12,I28>30)), "Please Call",IF(AND(AND(H28>=48,H28<48.99),OR(I28<12,I28>29)), "Please Call",IF(AND(AND(H28>=49,H28<50.99),OR(I28<12,I28>28)), "Please Call",IF(AND(AND(H28>=51,H28<54),OR(I28<12,I28>26)), "Please Call","OKAY"))))))))))))))))))))))))))))))))) | W28: =IF(A28="","",IF(OR(A28=$AD$100,A28=$AD$101,A28=$AD$102,A28=$AD$103),"N/A",IF(AND(H28>36,I28>36),"Please Call",IF(AND(AND(H28>=14,H28<29.99),OR(I28<42,I28>80)), "Please Call",IF(AND(AND(H28>=30,H28<30.99),OR(I28<42,I28>79)), "Please Call",IF(AND(AND(H28>=31,H28<31.99),OR(I28<42,I28>76)), "Please Call",IF(AND(AND(H28>=32,H28<32.99),OR(I28<42,I28>74)), "Please Call",IF(AND(AND(H28>=33,H28<33.99),OR(I28<42,I28>72)), "Please Call",IF(AND(AND(H28>=34,H28<34.99),OR(I28<42,I28>70)), "Please Call",IF(AND(AND(H28>=35,H28<36),OR(I28<42,I28>69)), "Please Call","OKAY")))))))))) | X28: =IF(A28="","",IF(OR(A28=$AD$101,A28=$AD$99,A28=$AD$102,C28=$AD$82,A28=$AD$103),"N/A",IF(AND(H28>36,I28>36),"Please Call",IF(AND(AND(H28>=8.625,H28<9.99),OR(I28<13,I28>36)), "Please Call",IF(AND(AND(H28>=10,H28<13.99),OR(I28<13,I28>48)), "Please Call",IF(AND(AND(H28>=14,H28<24.99),OR(I28<13,I28>80)), "Please Call",IF(AND(AND(H28>=25,H28<26.99),OR(I28<14,I28>80)), "Please Call",IF(AND(AND(H28>=27,H28<27.99),OR(I28<14,I28>79)), "Please Call",IF(AND(AND(H28>=28,H28<28.99),OR(I28<14,I28>77)), "Please Call",IF(AND(AND(H28>=29,H28<29.99),OR(I28<14,I28>75)), "Please Call",IF(AND(AND(H28>=30,H28<30.99),OR(I28<14,I28>72)), "Please Call",IF(AND(AND(H28>=31,H28<31.99),OR(I28<14,I28>70)), "Please Call",IF(AND(AND(H28>=32,H28<32.99),OR(I28<14,I28>68)), "Please Call",IF(AND(AND(H28>=33,H28<33.99),OR(I28<14,I28>66)), "Please Call",IF(AND(AND(H28>=34,H28<34.99),OR(I28<14,I28>64)), "Please Call",IF(AND(AND(H28>=35,H28<35.99),OR(I28<14,I28>62)), "Please Call",IF(AND(AND(H28>=36,H28<36.99),OR(I28<14,I28>60)), "Please Call",IF(AND(AND(H28>=37,H28<41.99),OR(I28<15,I28>36)), "Please Call",IF(AND(AND(H28>=42,H28<59.99),OR(I28<18,I28>36)), "Please Call",IF(AND(AND(H28>=60,H28<61.99),OR(I28<18,I28>35)), "Please Call",IF(AND(AND(H28>=62,H28<63.99),OR(I28<18,I28>34)), "Please Call",IF(AND(AND(H28>=64,H28<65.99),OR(I28<18,I28>33)), "Please Call",IF(AND(AND(H28>=66,H28<67.99),OR(I28<18,I28>32)), "Please Call",IF(AND(AND(H28>=68,H28<69.99),OR(I28<18,I28>31)), "Please Call",IF(AND(AND(H28>=70,H28<71.99),OR(I28<18,I28>30)), "Please Call",IF(AND(AND(H28>=72,H28<74.99),OR(I28<18,I28>29)), "Please Call",IF(AND(AND(H28>=75,H28<77.99),OR(I28<18,I28>28)), "Please Call",IF(AND(AND(H28>=78,H28<78.99),OR(I28<18,I28>27)), "Please Call",IF(AND(AND(H28>=79,H28<80),OR(I28<18,I28>26)), "Please Call","OKAY"))))))))))))))))))))))))))))) | Y28: =IF(A28="","",IF(OR(A28=$AD$99,A28=$AD$101,A28=$AD$102,C28=$AD$81,A28=$AD$103),"N/A",IF(AND(H28>36,I28>36),"Please Call",IF(AND(AND(H28>=8.625,H28<9.99),OR(I28<13,I28>36)), "Please Call",IF(AND(AND(H28>=10,H28<13.99),OR(I28<13,I28>48)), "Please Call",IF(AND(AND(H28>=14,H28<24.99),OR(I28<13,I28>80)), "Please Call",IF(AND(AND(H28>=25,H28<30.99),OR(I28<14,I28>80)), "Please Call",IF(AND(AND(H28>=31,H28<31.99),OR(I28<14,I28>78)), "Please Call",IF(AND(AND(H28>=32,H28<32.99),OR(I28<14,I28>76)), "Please Call",IF(AND(AND(H28>=33,H28<33.99),OR(I28<14,I28>75)), "Please Call",IF(AND(AND(H28>=34,H28<34.99),OR(I28<14,I28>73)), "Please Call",IF(AND(AND(H28>=35,H28<36.99),OR(I28<14,I28>69)), "Please Call",IF(AND(AND(H28>=37,H28<41.99),OR(I28<15,I28>36)), "Please Call",IF(AND(AND(H28>=42,H28<47.99),OR(I28<18,I28>36)), "Please Call",IF(AND(AND(H28>=48,H28<49.99),OR(I28<18,I28>35)), "Please Call",IF(AND(AND(H28>=50,H28<50.99),OR(I28<18,I28>34)), "Please Call",IF(AND(AND(H28>=51,H28<52.99),OR(I28<18,I28>33)), "Please Call",IF(AND(AND(H28>=53,H28<53.99),OR(I28<18,I28>32)), "Please Call",IF(AND(AND(H28>=54,H28<55.99),OR(I28<18,I28>31)), "Please Call",IF(AND(AND(H28>=56,H28<57.99),OR(I28<18,I28>30)), "Please Call",IF(AND(AND(H28>=58,H28<59.99),OR(I28<18,I28>29)), "Please Call",IF(AND(AND(H28>=60,H28<61.99),OR(I28<18,I28>28)), "Please Call",IF(AND(AND(H28>=62,H28<63.99),OR(I28<18,I28>27)), "Please Call",IF(AND(AND(H28>=64,H28<66.99),OR(I28<18,I28>26)), "Please Call",IF(AND(AND(H28>=67,H28<69.99),OR(I28<18,I28>25)), "Please Call",IF(AND(AND(H28>=70,H28<71.99),OR(I28<18,I28>24)), "Please Call",IF(AND(AND(H28>=72,H28<75.99),OR(I28<18,I28>23)), "Please Call",IF(AND(AND(H28>=76,H28<77.99),OR(I28<18,I28>22)), "Please Call",IF(AND(AND(H28>=78,H28<80),OR(I28<18,I28>21)), "Please Call","OKAY"))))))))))))))))))))))))))))) | Z28: =IF(A28="","",IF(OR(A28=$AD$100,A28=$AD$99,A28=$AD$101,A28=$AD$103),"N/A",IF(AND(H28>36,I28>36),"Please Call",IF(AND(AND(H28>=15,H28<15.99),OR(I28<12,I28>13.99)), "Please Call",IF(AND(AND(H28>=16,H28<16.99),OR(I28<12,I28>15.99)), "Please Call",IF(AND(AND(H28>=17,H28<17.99),OR(I28<12,I28>18.99)), "Please Call",IF(AND(AND(H28>=18,H28<18.99),OR(I28<12,I28>20.99)), "Please Call",IF(AND(AND(H28>=19,H28<19.99),OR(I28<12,I28>22.99)), "Please Call",IF(AND(AND(H28>=20,H28<20.99),OR(I28<12,I28>24.99)), "Please Call",IF(AND(AND(H28>=21,H28<21.99),OR(I28<12,I28>26.99)), "Please Call",IF(AND(AND(H28>=22,H28<22.99),OR(I28<12,I28>28.99)), "Please Call",IF(AND(AND(H28>=23,H28<23.99),OR(I28<12,I28>30.99)), "Please Call",IF(AND(AND(H28>=24,H28<24.99),OR(I28<12,I28>31.99)), "Please Call",IF(AND(AND(H28>=25,H28<25.99),OR(I28<12,I28>35.99)), "Please Call",IF(AND(AND(H28>=26,H28<26.99),OR(I28<12,I28>36.99)), "Please Call",IF(AND(AND(H28>=27,H28<28.99),OR(I28<12,I28>37.99)), "Please Call",IF(AND(AND(H28>=29,H28<29.99),OR(I28<12,I28>39.99)), "Please Call",IF(AND(AND(H28>=30,H28<32.99),OR(I28<12,I28>41)), "Please Call",IF(AND(AND(H28>=33,H28<33.99),OR(I28<12,I28>39.99)), "Please Call",IF(AND(AND(H28>=34,H28<34.99),OR(I28<12,I28>38.99)), "Please Call",IF(AND(AND(H28>=35,H28<35.99),OR(I28<12,I28>37.99)), "Please Call",IF(AND(AND(H28>=36,H28<36.99),OR(I28<12,I28>36.99)), "Please Call",IF(AND(AND(H28>=37,H28<37.99),OR(I28<12,I28>35.99)), "Please Call",IF(AND(AND(H28>=38,H28<38.99),OR(I28<12,I28>34.99)), "Please Call",IF(AND(AND(H28>=39,H28<39.99),OR(I28<12,I28>33.99)), "Please Call",IF(AND(AND(H28>=40,H28<40.99),OR(I28<12,I28>32.99)), "Please Call",IF(AND(AND(H28>=41,H28<41.99),OR(I28<12,I28>31.99)), "Please Call",IF(AND(AND(H28>=42,H28<43.99),OR(I28<12,I28>30.99)), "Please Call",IF(AND(AND(H28>=44,H28<44.99),OR(I28<12,I28>29.99)), "Please Call",IF(AND(AND(H28>=45,H28<46.99),OR(I28<12,I28>28.99)), "Please Call",IF(AND(AND(H28>=47,H28<48.99),OR(I28<12,I28>27.99)), "Please Call",IF(AND(AND(H28>=49,H28<49.99),OR(I28<12,I28>26.99)), "Please Call",IF(AND(AND(H28>=50,H28<51.99),OR(I28<12,I28>25.99)), "Please Call",IF(AND(AND(H28>=52,H28<54),OR(I28<12,I28>24.99)), "Please Call","OKAY")))))))))))))))))))))))))))))))))) | AA28: =IF(A28="","",IF(OR(A28=$AD$99,A28=$AD$100,A28=$AD$101,A28=$AD$102,C28=$AD$81),"N/A",IF(AND(AND(H28<8,H28>48),OR(I28<18,I28>80)), "Please Call",IF(AND(H28>36,I28>36),"Please Call",IF(K28>18.2,"Please Call","OKAY"))))) | AB28: =IF(A28="","",IF(OR(A28=$AD$99,A28=$AD$100,A28=$AD$101,A28=$AD$102,C28=$AD$82),"N/A",IF(AND(AND(H28<8,H28>48),OR(I28<18,I28>80)), "Please Call",IF(AND(H28>36,I28>36),"Please Call",IF(K28>=15,"Please Call","OKAY"))))) | AC28: =VLOOKUP(A28,$AD$99:$AE$103,2,0) -> #N/A | AD28: =VLOOKUP(C28,$AD$81:$AE$82,2,0) -> #N/A | AE28: =VLOOKUP(D28,$AD$58:$AE$70,2,0) -> #N/A | AF28: =IF(AND(K28>=1,K28<=2),$AD$105,IF(AND(K28>=2,K28<=3),$AD$106,IF(AND(K28>=3,K28<=5),$AD$107,IF(AND(K28>=5,K28<=7),$AD$108,IF(AND(K28>=7,K28<=9),$AD$109,IF(AND(K28>=9,K28<=11),$AD$110,IF(AND(K28>=11,K28<=13),$AD$111,IF(AND(K28>=13,K28<=15),$AD$112,IF(AND(K28>=15,K28<=17),$AD$113,IF(AND(K28>=17,K28<=19),$AD$114,"INVALID CODE")))))))))) -> INVALID CODE | AG28: =VLOOKUP(AF28,$AD$105:$AE$114,2,0) -> #N/A | AH28: =CONCATENATE(AC28,AD28,AE28,AG28) -> #N/A | AI28: =VLOOKUP(AH28,'Price DATA'!$A$8:$C$1156,3,0) -> #N/A | AJ28: =VLOOKUP(G28,$AD$92:$AE$97,2,0) -> #N/A | AK28: =IF(AJ28="Upcharge",(VLOOKUP(AD28,$AE$81:$AF$82,2,0)),0) -> #N/A | AL28: =IF(A28=$AD$100,VLOOKUP(C28,$AD$81:$AG$82,4,0),IF(A28=$AD$103,VLOOKUP(C28,$AD$81:$AH$82,5,0),VLOOKUP(A28,$AD$83:$AG$86,4,0))) -> #N/A | AP28: =AP27+0.0625 -> 14.1875 | AQ28: =AQ27+0.0625 -> 42.1875 | AS28: =AS27+0.0625 -> 8.8125 | AT28: =AT27+0.0625 -> 13.1875 | AU28: =AU27+0.0625 -> 30.1875 | AW28: =AW27+0.0625 -> 8.1875 | AX28: =AX27+0.0625 -> 12.1875 | AZ28: =AZ27+0.0625 -> 15.1875 | BA28: =BA27+0.0625 -> 12.1875 | BC28: =BC27+0.0625 -> 8.1875 | BD28: =BD27+0.0625 -> 18.1875
